BEGIN:VCALENDAR
VERSION:2.0
PRODID:-//hacksw/handcal//NONSGML v1.0//EN
BEGIN:VEVENT
DTSTAMP:20270901T220000Z
DTSTART:20270901T220000Z
DTEND:20270902T220000Z
LOCATION:Stuttgart, Deutschland
SUMMARY:21. Bundesdelegiertenversammlung der Senioren-Union
END:VEVENT
END:VCALENDAR
