BEGIN:VCALENDAR
VERSION:2.0
PRODID:-//hacksw/handcal//NONSGML v1.0//EN
BEGIN:VEVENT
DTSTAMP:20261111T150000Z
DTSTART:20261111T150000Z
DTEND:20261111T190000Z
LOCATION:Reichstagsgebäude, Berlin, 11011, Deutschland
SUMMARY:Veranstaltung: Pflege neu denken – Verantwortung, Innovation und Menschlichkeit im Alter
END:VEVENT
END:VCALENDAR
