BEGIN:VCALENDAR
VERSION:2.0
PRODID:-//hacksw/handcal//NONSGML v1.0//EN
BEGIN:VEVENT
DTSTAMP:20230813T220000Z
DTSTART:20230813T220000Z
DTEND:20230813T220000Z
LOCATION:Dresden, Deutschland
SUMMARY:Erw. Landesvorstandssitzung Sachsen
END:VEVENT
END:VCALENDAR
