BEGIN:VCALENDAR
VERSION:2.0
PRODID:-//hacksw/handcal//NONSGML v1.0//EN
BEGIN:VEVENT
DTSTAMP:20200611T220000Z
DTSTART:20200611T220000Z
DTEND:20200611T220000Z
LOCATION:Sage (Großenkneten), Deutschland
SUMMARY:Landesdelegiertenversammlung der Senioren-Union Oldenburg
END:VEVENT
END:VCALENDAR
